BEGIN:VCALENDAR
VERSION:2.0
PRODID:-//Robert Bailey - ECPv6.15.20//NONSGML v1.0//EN
CALSCALE:GREGORIAN
METHOD:PUBLISH
X-WR-CALNAME:Robert Bailey
X-ORIGINAL-URL:https://robertbaileybooks.com
X-WR-CALDESC:Events for Robert Bailey
REFRESH-INTERVAL;VALUE=DURATION:PT1H
X-Robots-Tag:noindex
X-PUBLISHED-TTL:PT1H
BEGIN:VTIMEZONE
TZID:America/Chicago
BEGIN:DAYLIGHT
TZOFFSETFROM:-0600
TZOFFSETTO:-0500
TZNAME:CDT
DTSTART:20240310T080000
END:DAYLIGHT
BEGIN:STANDARD
TZOFFSETFROM:-0500
TZOFFSETTO:-0600
TZNAME:CST
DTSTART:20241103T070000
END:STANDARD
BEGIN:DAYLIGHT
TZOFFSETFROM:-0600
TZOFFSETTO:-0500
TZNAME:CDT
DTSTART:20250309T080000
END:DAYLIGHT
BEGIN:STANDARD
TZOFFSETFROM:-0500
TZOFFSETTO:-0600
TZNAME:CST
DTSTART:20251102T070000
END:STANDARD
BEGIN:DAYLIGHT
TZOFFSETFROM:-0600
TZOFFSETTO:-0500
TZNAME:CDT
DTSTART:20260308T080000
END:DAYLIGHT
BEGIN:STANDARD
TZOFFSETFROM:-0500
TZOFFSETTO:-0600
TZNAME:CST
DTSTART:20261101T070000
END:STANDARD
END:VTIMEZONE
BEGIN:VEVENT
DTSTART;TZID=America/Chicago:20250501T180000
DTEND;TZID=America/Chicago:20250501T200000
DTSTAMP:20260423T235607
CREATED:20250429T211952Z
LAST-MODIFIED:20250429T211952Z
UID:1557-1746122400-1746129600@robertbaileybooks.com
SUMMARY:Snail on the Wall
DESCRIPTION:
URL:https://robertbaileybooks.com/event/snail-on-the-wall/
LOCATION:The Snail on the Wall\, 816 Wellman Avenue\, Huntsville\, AL\, 35801\, United States
ATTACH;FMTTYPE=image/png:https://robertbaileybooks.com/wp-content/uploads/2025/04/Snail-on-the-Wall.png
END:VEVENT
END:VCALENDAR