BEGIN:VCALENDAR
VERSION:2.0
PRODID:-//Robert Bailey - ECPv6.15.20//NONSGML v1.0//EN
CALSCALE:GREGORIAN
METHOD:PUBLISH
X-WR-CALNAME:Robert Bailey
X-ORIGINAL-URL:https://robertbaileybooks.com
X-WR-CALDESC:Events for Robert Bailey
REFRESH-INTERVAL;VALUE=DURATION:PT1H
X-Robots-Tag:noindex
X-PUBLISHED-TTL:PT1H
BEGIN:VTIMEZONE
TZID:America/New_York
BEGIN:DAYLIGHT
TZOFFSETFROM:-0500
TZOFFSETTO:-0400
TZNAME:EDT
DTSTART:20250309T070000
END:DAYLIGHT
BEGIN:STANDARD
TZOFFSETFROM:-0400
TZOFFSETTO:-0500
TZNAME:EST
DTSTART:20251102T060000
END:STANDARD
BEGIN:DAYLIGHT
TZOFFSETFROM:-0500
TZOFFSETTO:-0400
TZNAME:EDT
DTSTART:20260308T070000
END:DAYLIGHT
BEGIN:STANDARD
TZOFFSETFROM:-0400
TZOFFSETTO:-0500
TZNAME:EST
DTSTART:20261101T060000
END:STANDARD
BEGIN:DAYLIGHT
TZOFFSETFROM:-0500
TZOFFSETTO:-0400
TZNAME:EDT
DTSTART:20270314T070000
END:DAYLIGHT
BEGIN:STANDARD
TZOFFSETFROM:-0400
TZOFFSETTO:-0500
TZNAME:EST
DTSTART:20271107T060000
END:STANDARD
END:VTIMEZONE
BEGIN:VTIMEZONE
TZID:America/Chicago
BEGIN:DAYLIGHT
TZOFFSETFROM:-0600
TZOFFSETTO:-0500
TZNAME:CDT
DTSTART:20250309T080000
END:DAYLIGHT
BEGIN:STANDARD
TZOFFSETFROM:-0500
TZOFFSETTO:-0600
TZNAME:CST
DTSTART:20251102T070000
END:STANDARD
BEGIN:DAYLIGHT
TZOFFSETFROM:-0600
TZOFFSETTO:-0500
TZNAME:CDT
DTSTART:20260308T080000
END:DAYLIGHT
BEGIN:STANDARD
TZOFFSETFROM:-0500
TZOFFSETTO:-0600
TZNAME:CST
DTSTART:20261101T070000
END:STANDARD
BEGIN:DAYLIGHT
TZOFFSETFROM:-0600
TZOFFSETTO:-0500
TZNAME:CDT
DTSTART:20270314T080000
END:DAYLIGHT
BEGIN:STANDARD
TZOFFSETFROM:-0500
TZOFFSETTO:-0600
TZNAME:CST
DTSTART:20271107T070000
END:STANDARD
END:VTIMEZONE
BEGIN:VEVENT
DTSTART;TZID=America/New_York:20260508T180000
DTEND;TZID=America/New_York:20260508T193000
DTSTAMP:20260423T105150
CREATED:20260417T192934Z
LAST-MODIFIED:20260417T192934Z
UID:1614-1778263200-1778268600@robertbaileybooks.com
SUMMARY:Neighborly Books
DESCRIPTION:
URL:https://robertbaileybooks.com/event/neighborly-books/
LOCATION:Neighborly Books\, 106 East Broadway Avenue\, Maryville\, TN\, 37804\, United States
ATTACH;FMTTYPE=image/jpeg:https://robertbaileybooks.com/wp-content/uploads/2026/04/image-8.jpg
END:VEVENT
BEGIN:VEVENT
DTSTART;TZID=America/Chicago:20260509T150000
DTEND;TZID=America/Chicago:20260509T163000
DTSTAMP:20260423T105150
CREATED:20260417T193412Z
LAST-MODIFIED:20260417T193412Z
UID:1618-1778338800-1778344200@robertbaileybooks.com
SUMMARY:Murder by the Book
DESCRIPTION:
URL:https://robertbaileybooks.com/event/murder-by-the-book/
LOCATION:Murder by the Book\, 2342 Bissonnet St\, Houston\, TX\, 77005\, United States
ATTACH;FMTTYPE=image/png:https://robertbaileybooks.com/wp-content/uploads/2026/04/image-9.png
END:VEVENT
BEGIN:VEVENT
DTSTART;TZID=America/New_York:20260511T191500
DTEND;TZID=America/New_York:20260511T210000
DTSTAMP:20260423T105150
CREATED:20260417T194047Z
LAST-MODIFIED:20260417T194122Z
UID:1623-1778526900-1778533200@robertbaileybooks.com
SUMMARY:Virginia Highland Books
DESCRIPTION:  \n 
URL:https://robertbaileybooks.com/event/virginia-highland-books/
LOCATION:Virginia Highland Books\, 1034 N. Highland Avenue\, Atlanta\, GA\, 30306-3551\, United States
ATTACH;FMTTYPE=image/png:https://robertbaileybooks.com/wp-content/uploads/2026/04/Mediator-Tour-4-Virginia-Highland.png
END:VEVENT
BEGIN:VEVENT
DTSTART;TZID=America/Chicago:20260512T180000
DTEND;TZID=America/Chicago:20260512T193000
DTSTAMP:20260423T105150
CREATED:20260417T194323Z
LAST-MODIFIED:20260417T194323Z
UID:1628-1778608800-1778614200@robertbaileybooks.com
SUMMARY:The Snail on the Wall
DESCRIPTION:
URL:https://robertbaileybooks.com/event/the-snail-on-the-wall/
LOCATION:The Snail on the Wall\, 816 Wellman Avenue\, Huntsville\, AL\, 35801\, United States
ATTACH;FMTTYPE=image/png:https://robertbaileybooks.com/wp-content/uploads/2026/04/image-10.png
END:VEVENT
BEGIN:VEVENT
DTSTART;TZID=America/Chicago:20260513T180000
DTEND;TZID=America/Chicago:20260513T200000
DTSTAMP:20260423T105150
CREATED:20260417T194612Z
LAST-MODIFIED:20260417T194612Z
UID:1631-1778695200-1778702400@robertbaileybooks.com
SUMMARY:Page & Palette
DESCRIPTION:
URL:https://robertbaileybooks.com/event/page-palette/
LOCATION:Page & Palette\, 32 South Section Street\, Fairhope\, AL\, 36532\, United States
ATTACH;FMTTYPE=image/webp:https://robertbaileybooks.com/wp-content/uploads/2026/04/image-16.webp
END:VEVENT
BEGIN:VEVENT
DTSTART;TZID=America/Chicago:20260514T173000
DTEND;TZID=America/Chicago:20260514T190000
DTSTAMP:20260423T105150
CREATED:20260417T194923Z
LAST-MODIFIED:20260417T195016Z
UID:1636-1778779800-1778785200@robertbaileybooks.com
SUMMARY:Sheffield Public Library
DESCRIPTION:
URL:https://robertbaileybooks.com/event/sheffield-public-library-2/
LOCATION:Sheffield Public Library\, 316 N. Montgomery Ave\, Sheffield\, AL\, 35660\, United States
ATTACH;FMTTYPE=image/png:https://robertbaileybooks.com/wp-content/uploads/2026/04/image-17.png
END:VEVENT
BEGIN:VEVENT
DTSTART;TZID=America/New_York:20260516T173000
DTEND;TZID=America/New_York:20260516T190000
DTSTAMP:20260423T105150
CREATED:20260417T195323Z
LAST-MODIFIED:20260417T195323Z
UID:1640-1778952600-1778958000@robertbaileybooks.com
SUMMARY:Park Books
DESCRIPTION:
URL:https://robertbaileybooks.com/event/park-books/
LOCATION:Park Books\, 7566 W. Main Street\, Sykesville\, MD\, 21784\, United States
ATTACH;FMTTYPE=image/png:https://robertbaileybooks.com/wp-content/uploads/2026/04/image-18.png
END:VEVENT
BEGIN:VEVENT
DTSTART;TZID=America/New_York:20260517T120000
DTEND;TZID=America/New_York:20260517T133000
DTSTAMP:20260423T105150
CREATED:20260417T195647Z
LAST-MODIFIED:20260417T195647Z
UID:1644-1779019200-1779024600@robertbaileybooks.com
SUMMARY:Thunder Road Books
DESCRIPTION:
URL:https://robertbaileybooks.com/event/thunder-road-books/
LOCATION:Thunder Road Books\, 1100 3rd Ave\, Spring Lake\, NJ\, 07762\, United States
ATTACH;FMTTYPE=image/png:https://robertbaileybooks.com/wp-content/uploads/2026/04/image-19.png
END:VEVENT
BEGIN:VEVENT
DTSTART;TZID=America/New_York:20260518T180000
DTEND;TZID=America/New_York:20260518T193000
DTSTAMP:20260423T105150
CREATED:20260417T195945Z
LAST-MODIFIED:20260417T195945Z
UID:1648-1779127200-1779132600@robertbaileybooks.com
SUMMARY:Published
DESCRIPTION:
URL:https://robertbaileybooks.com/event/published/
LOCATION:Published\, 47 Green Street\, Huntington\, NY\, 11743\, United States
ATTACH;FMTTYPE=image/png:https://robertbaileybooks.com/wp-content/uploads/2026/04/Mediator-Tour-4-Published.png
END:VEVENT
BEGIN:VEVENT
DTSTART;TZID=America/New_York:20260519T180000
DTEND;TZID=America/New_York:20260519T190000
DTSTAMP:20260423T105150
CREATED:20260417T200251Z
LAST-MODIFIED:20260417T200251Z
UID:1652-1779213600-1779217200@robertbaileybooks.com
SUMMARY:The Mysterious Bookshop
DESCRIPTION:
URL:https://robertbaileybooks.com/event/the-mysterious-bookshop/
LOCATION:The Mysterious Bookshop\, 58 Warren Street\, New York\, NY\, 10007\, United States
ATTACH;FMTTYPE=image/png:https://robertbaileybooks.com/wp-content/uploads/2026/04/Mediator-Tour-6-Mysterious.png
END:VEVENT
BEGIN:VEVENT
DTSTART;TZID=America/New_York:20260520T183000
DTEND;TZID=America/New_York:20260520T200000
DTSTAMP:20260423T105150
CREATED:20260417T200513Z
LAST-MODIFIED:20260417T200513Z
UID:1656-1779301800-1779307200@robertbaileybooks.com
SUMMARY:Barrett Bookstore
DESCRIPTION:
URL:https://robertbaileybooks.com/event/barrett-bookstore/
LOCATION:Barrett Bookstore\, 5 Corbin Drive\, Darien\, CT\, 06820\, United States
ATTACH;FMTTYPE=image/png:https://robertbaileybooks.com/wp-content/uploads/2026/04/image-20.png
END:VEVENT
BEGIN:VEVENT
DTSTART;TZID=America/New_York:20260521T190000
DTEND;TZID=America/New_York:20260521T203000
DTSTAMP:20260423T105150
CREATED:20260417T200946Z
LAST-MODIFIED:20260417T200946Z
UID:1660-1779390000-1779395400@robertbaileybooks.com
SUMMARY:The Next Chapter Books & More
DESCRIPTION:
URL:https://robertbaileybooks.com/event/the-next-chapter-books-more/
LOCATION:The Next Chapter Books & More\, 1147 Hancock St\, Quincy\, MA\, 02169\, United States
ATTACH;FMTTYPE=image/png:https://robertbaileybooks.com/wp-content/uploads/2026/04/Mediator-Tour-7-Next-Chapter.png
END:VEVENT
BEGIN:VEVENT
DTSTART;TZID=America/Chicago:20260528T173000
DTEND;TZID=America/Chicago:20260528T190000
DTSTAMP:20260423T105150
CREATED:20260417T201219Z
LAST-MODIFIED:20260417T201219Z
UID:1664-1779989400-1779994800@robertbaileybooks.com
SUMMARY:Florence-Lauderdale Public Library
DESCRIPTION:
URL:https://robertbaileybooks.com/event/florence-lauderdale-public-library/
LOCATION:Florence-Lauderdale Public Library\, 350 N. Wood Ave\, Florence\, AL\, 35630\, United States
ATTACH;FMTTYPE=image/png:https://robertbaileybooks.com/wp-content/uploads/2026/04/image-21.png
END:VEVENT
END:VCALENDAR